BEGIN:VCALENDAR
VERSION:2.0
PRODID:-//British Muslim Heritage Centre - ECPv6.15.20//NONSGML v1.0//EN
CALSCALE:GREGORIAN
METHOD:PUBLISH
X-WR-CALNAME:British Muslim Heritage Centre
X-ORIGINAL-URL:https://bmhc.org.uk
X-WR-CALDESC:Events for British Muslim Heritage Centre
REFRESH-INTERVAL;VALUE=DURATION:PT1H
X-Robots-Tag:noindex
X-PUBLISHED-TTL:PT1H
BEGIN:VTIMEZONE
TZID:UTC
BEGIN:STANDARD
TZOFFSETFROM:+0000
TZOFFSETTO:+0000
TZNAME:UTC
DTSTART:20250101T000000
END:STANDARD
END:VTIMEZONE
BEGIN:VEVENT
DTSTART;TZID=UTC:20260509T100000
DTEND;TZID=UTC:20260510T163000
DTSTAMP:20260424T205410
CREATED:20260422T134339Z
LAST-MODIFIED:20260423T213807Z
UID:13013-1778320800-1778430600@bmhc.org.uk
SUMMARY:Halal Money Weekend
DESCRIPTION:Take control of your financial future the halal way! Join this powerful 2-day immersive bootcamp designed for individuals\, couples\, and families who want to grow their wealth while staying true to their values. 🌱📈 \n\n\n\nLearn practical skills like budgeting\, goal setting\, and understanding halal vs haram income\, along with real-world investing strategies in both private and public markets. Gain expert insights into halal asset classes and participate in interactive group sessions and live Q&A. 🎯💡 \n\n\n\nLed by industry expert Ibrahim Khan\, this event brings together knowledge\, experience\, and opportunities—all in one place! 🧠🤝 \n\n\n\n📅 Date: May 9th–10th\, 2026⏰ Time: 10:00 AM – 4:30 PM📍 Location: BMHC\, Manchester \n\n\n\n🎟️ Limited seats available—don’t miss your chance to learn\, invest\, and grow the halal way! 🚀
URL:https://bmhc.org.uk/event/halal-money-weekend/
CATEGORIES:Education
ATTACH;FMTTYPE=image/jpeg:https://bmhc.org.uk/wp-content/uploads/2026/04/WhatsApp-Image-2026-04-21-at-7.34.29-PM.jpeg
END:VEVENT
END:VCALENDAR