BEGIN:VCALENDAR
VERSION:2.0
PRODID:-//British Muslim Heritage Centre - ECPv6.15.20//NONSGML v1.0//EN
CALSCALE:GREGORIAN
METHOD:PUBLISH
X-WR-CALNAME:British Muslim Heritage Centre
X-ORIGINAL-URL:https://bmhc.org.uk
X-WR-CALDESC:Events for British Muslim Heritage Centre
REFRESH-INTERVAL;VALUE=DURATION:PT1H
X-Robots-Tag:noindex
X-PUBLISHED-TTL:PT1H
BEGIN:VTIMEZONE
TZID:UTC
BEGIN:STANDARD
TZOFFSETFROM:+0000
TZOFFSETTO:+0000
TZNAME:UTC
DTSTART:20250101T000000
END:STANDARD
END:VTIMEZONE
BEGIN:VEVENT
DTSTART;TZID=UTC:20260425T103000
DTEND;TZID=UTC:20260425T123000
DTSTAMP:20260425T012001
CREATED:20260422T133348Z
LAST-MODIFIED:20260423T213757Z
UID:13010-1777113000-1777120200@bmhc.org.uk
SUMMARY:FUTURE LEADERS PROGRAMME Young Muslim Men (21+)
DESCRIPTION:You know you’re capable of more — more discipline\, clarity\, and leadership. \n\n\n\nOur 12-week high-impact programme will help you build: \n\n\n\n\nConfidence & leadership\n\n\n\nDiscipline & consistency\n\n\n\nCommunication & influence\n\n\n\nReal-world readiness\n\n\n\n\n📍 British Muslim Heritage Centre🗓 Starts Sat 25th April⏰ 10:30am – 12:30pm \n\n\n\n💷 Only £60 (worth £1\,500+) \n\n\n\n⚠️ Limited to 15 places — not a casual course\, a commitment to growth. \n\n\n\nApply now:https://www.tickettailor.com/events/britishmuslimheritagecentre/2147620
URL:https://bmhc.org.uk/event/future-leaders-programmeyoung-muslim-men-21/
CATEGORIES:Education
ATTACH;FMTTYPE=image/jpeg:https://bmhc.org.uk/wp-content/uploads/2026/04/WhatsApp-Image-2026-04-21-at-7.34.29-PM.jpeg
END:VEVENT
END:VCALENDAR